BEGIN:VCALENDAR
VERSION:2.0
PRODID:-//wp-events-plugin.com//7.2.3.1//EN
BEGIN:VEVENT
UID:781@calvaryelizabeth.org
DTSTART;TZID=America/Denver:20261121T103000
DTEND;TZID=America/Denver:20261121T120000
DTSTAMP:20251124T153616Z
URL:https://www.calvaryelizabeth.org/events/ladies-bible-study-2026-11-21/
SUMMARY:Ladies Bible Study
DESCRIPTION:Satisfy my thirsty soul
LOCATION:Calvary Chapel Elizabeth\, 4031 Park Lane\, Elizabeth\, CO\, 80107
 \, United States
X-APPLE-STRUCTURED-LOCATION;VALUE=URI;X-ADDRESS=4031 Park Lane\, Elizabeth\
 , CO\, 80107\, United States;X-APPLE-RADIUS=100;X-TITLE=Calvary Chapel Eli
 zabeth:geo:0,0
END:VEVENT
BEGIN:VTIMEZONE
TZID:America/Denver
X-LIC-LOCATION:America/Denver
BEGIN:STANDARD
DTSTART:20261101T010000
TZOFFSETFROM:-0600
TZOFFSETTO:-0700
TZNAME:MST
END:STANDARD
END:VTIMEZONE
END:VCALENDAR