BEGIN:VCALENDAR
VERSION:2.0
PRODID:-//wp-events-plugin.com//7.2.3.1//EN
BEGIN:VEVENT
UID:1012@calvaryelizabeth.org
DTSTART;TZID=America/Denver:20260820T093000
DTEND;TZID=America/Denver:20260820T113000
DTSTAMP:20260106T205842Z
URL:https://www.calvaryelizabeth.org/events/ladies-coffee-2026-01-15-2026-
 02-19-2026-03-19-2026-04-16-2026-05-21-2026-06-18-2026-07-16-2026-08-20/
SUMMARY:Ladies' Coffee
DESCRIPTION:Join us for the Ladies' Coffee Fellowship\, a special gathering
  that takes place every third Thursday of the month at Isabel's Coffee. Th
 is event is designed to bring women together in a casual and inviting sett
 ing\, where they can connect\, share stories\, and build lasting friendshi
 ps. Whether you're a regular attendee or a first-time visitor\, all ladies
  from the community are welcome to join us for a cup of coffee\, delightfu
 l conversations\, and a wonderful time of encouragement and support. Don't
  miss out on this monthly tradition that offers a perfect opportunity to r
 elax\, socialize\, and create meaningful connections. Mark your calendars 
 and be a part of our Ladies' Coffee Fellowship.
LOCATION:Brews & Blooms Coffee\, 796 E Kiowa Ave Unit H1\, Elizabeth\, CO\,
  80107\, United States
X-APPLE-STRUCTURED-LOCATION;VALUE=URI;X-ADDRESS=796 E Kiowa Ave Unit H1\, E
 lizabeth\, CO\, 80107\, United States;X-APPLE-RADIUS=100;X-TITLE=Brews & B
 looms Coffee:geo:0,0
END:VEVENT
BEGIN:VTIMEZONE
TZID:America/Denver
X-LIC-LOCATION:America/Denver
BEGIN:DAYLIGHT
DTSTART:20260308T030000
TZOFFSETFROM:-0700
TZOFFSETTO:-0600
TZNAME:MDT
END:DAYLIGHT
END:VTIMEZONE
END:VCALENDAR