BEGIN:VCALENDAR
VERSION:2.0
PRODID:-//wp-events-plugin.com//7.2.3.1//EN
BEGIN:VEVENT
UID:737@calvaryelizabeth.org
DTSTART;TZID=America/Denver:20261114T083000
DTEND;TZID=America/Denver:20261114T100000
DTSTAMP:20251124T153200Z
URL:https://www.calvaryelizabeth.org/events/mens-bible-study-2025-11-08-20
 25-12-13-2026-01-10-2026-02-14-2026-03-14-2026-04-11-2026-05-09-2026-06-13
 -2026-07-11-2026-08-08-2026-09-12-2026-10-10-2026-11-14/
SUMMARY:Men's Bible Study
DESCRIPTION:Every Man a Warrior
LOCATION:Calvary Chapel Elizabeth\, 4031 Park Lane\, Elizabeth\, CO\, 80107
 \, United States
X-APPLE-STRUCTURED-LOCATION;VALUE=URI;X-ADDRESS=4031 Park Lane\, Elizabeth\
 , CO\, 80107\, United States;X-APPLE-RADIUS=100;X-TITLE=Calvary Chapel Eli
 zabeth:geo:0,0
END:VEVENT
BEGIN:VTIMEZONE
TZID:America/Denver
X-LIC-LOCATION:America/Denver
BEGIN:STANDARD
DTSTART:20261101T010000
TZOFFSETFROM:-0600
TZOFFSETTO:-0700
TZNAME:MST
END:STANDARD
END:VTIMEZONE
END:VCALENDAR