BEGIN:VCALENDAR
VERSION:2.0
PRODID:-//wp-events-plugin.com//7.2.3.1//EN
BEGIN:VEVENT
UID:950@calvaryelizabeth.org
DTSTART:20261017T153000Z
DTEND:20261017T170000Z
DTSTAMP:20260106T205623Z
URL:https://www.calvaryelizabeth.org/events/mens-breakfast-2026-01-17-2026
 -02-21-2026-03-21-2026-04-18-2026-05-16-2026-06-20-2026-07-18-2026-08-15-2
 026-09-19-2026-10-17/
SUMMARY:Men's Breakfast
DESCRIPTION:Join us for our Men's Breakfast - a monthly gathering for fello
 wship\, food\, and a short Bible study. Connect with other men in the comm
 unity\, and start your day off right. All are welcome!
ATTACH;FMTTYPE=image/jpeg:https://www.calvaryelizabeth.org/wp-content/uplo
 ads/2023/05/Youth-Prayer-Breakfast-Pancake-Stack-CMG-Template.jpg
LOCATION:Calvary Chapel Elizabeth\, 4031 Park Lane\, Elizabeth\, CO\, 80107
 \, United States
X-APPLE-STRUCTURED-LOCATION;VALUE=URI;X-ADDRESS=4031 Park Lane\, Elizabeth\
 , CO\, 80107\, United States;X-APPLE-RADIUS=100;X-TITLE=Calvary Chapel Eli
 zabeth:geo:0,0
END:VEVENT
END:VCALENDAR