BEGIN:VCALENDAR
VERSION:2.0
PRODID:-//wp-events-plugin.com//7.2.3.1//EN
BEGIN:VEVENT
UID:1059@calvaryelizabeth.org
DTSTART:20261027T160000Z
DTEND:20261027T180000Z
DTSTAMP:20260106T205909Z
URL:https://www.calvaryelizabeth.org/events/mens-coffee-2026-01-06-2026-01
 -13-2026-01-20-2026-01-27-2026-02-03-2026-02-10-2026-02-17-2026-02-24-2026
 -03-03-2026-03-10-2026-03-17-2026-03-24-2026-03-31-2026-04-07-2026-04-14-2
 026-04-2-20-2026-10-27/
SUMMARY:Men's Coffee
DESCRIPTION:Join us every Tuesday at 9am at Isabel's Coffee Shop for our we
 ekly Men's Coffee Gathering. This is a casual and relaxed event where men 
 can come together\, share stories\, and enjoy a cup of coffee.\nWhether yo
 u're new to the area or a long-time resident\, this is the perfect opportu
 nity to connect with other men in the community and build friendships. Our
  supportive and encouraging atmosphere is a great place to discuss anythin
 g that may be on your mind or simply chat about life.\nSo grab a cup of co
 ffee and come join us on Tuesday mornings at 9am for our Men's Coffee Gath
 ering. We can't wait to see you there!
LOCATION:Brews & Blooms Coffee\, 796 E Kiowa Ave Unit H1\, Elizabeth\, CO\,
  80107\, United States
X-APPLE-STRUCTURED-LOCATION;VALUE=URI;X-ADDRESS=796 E Kiowa Ave Unit H1\, E
 lizabeth\, CO\, 80107\, United States;X-APPLE-RADIUS=100;X-TITLE=Brews & B
 looms Coffee:geo:0,0
END:VEVENT
END:VCALENDAR