BEGIN:VCALENDAR
VERSION:2.0
PRODID:-//wp-events-plugin.com//7.2.3.1//EN
BEGIN:VEVENT
UID:931@calvaryelizabeth.org
DTSTART;TZID=America/Denver:20261102T170000
DTEND;TZID=America/Denver:20261102T190000
DTSTAMP:20251124T154115Z
URL:https://www.calvaryelizabeth.org/events/monday-prayer-2025-01-06-2025-
 01-13-2025-01-20-2025-01-27-2025-02-03-2025-02-10-2025-02-17-2025-02-24-20
 25-03-03-2025-03-10-2025-03-17-2025-03-24-2025-03-31-2025-04-07-2025-04-14
 -2025-04-26-2026-11-02/
SUMMARY:Monday Prayer
DESCRIPTION:All are welcome to talk\, fellowship &amp\; pray\, and explore 
 the Biblical view of our world today.
LOCATION:Calvary Chapel Elizabeth\, 4031 Park Lane\, Elizabeth\, CO\, 80107
 \, United States
X-APPLE-STRUCTURED-LOCATION;VALUE=URI;X-ADDRESS=4031 Park Lane\, Elizabeth\
 , CO\, 80107\, United States;X-APPLE-RADIUS=100;X-TITLE=Calvary Chapel Eli
 zabeth:geo:0,0
END:VEVENT
BEGIN:VTIMEZONE
TZID:America/Denver
X-LIC-LOCATION:America/Denver
BEGIN:STANDARD
DTSTART:20261101T010000
TZOFFSETFROM:-0600
TZOFFSETTO:-0700
TZNAME:MST
END:STANDARD
END:VTIMEZONE
END:VCALENDAR