BEGIN:VCALENDAR
VERSION:2.0
PRODID:-//wp-events-plugin.com//7.2.3.1//EN
BEGIN:VEVENT
UID:986@calvaryelizabeth.org
DTSTART:20260823T170000Z
DTEND:20260823T183000Z
DTSTAMP:20260106T205812Z
URL:https://www.calvaryelizabeth.org/events/sunday-morning-service-2026-08
 -23/
SUMMARY:Sunday Morning Service
DESCRIPTION:Join us for our inspiring Sunday Morning Service\, a time of wo
 rship\, fellowship\, and spiritual renewal.\n\nExperience the uplifting po
 wer of music\, as our talented worship team leads us in heartfelt songs of
  praise. Engage with thought-provoking sermons delivered by our passionate
  and knowledgeable pastors\, who share practical insights from the Bible.\
 n\nOur Sunday Morning Service is designed to be inclusive and welcoming to
  everyone\, regardless of where they are on their faith journey. It's a pl
 ace to find community\, encouragement\, and hope.\n\nBring your family and
  friends\, and discover the joy of worshipping together in a warm and frie
 ndly atmosphere. Our service starts at 10:00am and includes programs for c
 hildren and youth\, ensuring an enriching experience for the whole family.
 \n\nCome join us this Sunday\, and let's grow together in faith and deepen
  our connection with God. We look forward to worshiping with you!
LOCATION:Calvary Chapel Elizabeth\, 4031 Park Lane\, Elizabeth\, CO\, 80107
 \, United States
X-APPLE-STRUCTURED-LOCATION;VALUE=URI;X-ADDRESS=4031 Park Lane\, Elizabeth\
 , CO\, 80107\, United States;X-APPLE-RADIUS=100;X-TITLE=Calvary Chapel Eli
 zabeth:geo:0,0
END:VEVENT
END:VCALENDAR