BEGIN:VCALENDAR
VERSION:2.0
PRODID:-//wp-events-plugin.com//7.2.3.1//EN
BEGIN:VEVENT
UID:814@calvaryelizabeth.org
DTSTART:20260813T020000Z
DTEND:20260813T030000Z
DTSTAMP:20251124T153834Z
URL:https://www.calvaryelizabeth.org/events/wednesday-night-bible-study-20
 26-01-07-2026-01-14-2026-01-21-2026-01-28-2026-02-04-2026-02-11-2026-02-18
 -2026-02-25-2026-03-04-2026-03-11-2026-03-18-2026-03-25-2026-04-01-2026-04
 -08-2026-05-2026-08-12/
SUMMARY:Wednesday Night Bible Study
DESCRIPTION:Join us every Wednesday night for our engaging Weekly Bible Stu
 dy. This is an event where we come together to dive deep into the teaching
 s of the Bible\, explore its relevance to our lives\, and grow in our fait
 h together.\n\nLed by knowledgeable and passionate facilitators\, our Bibl
 e study provides a supportive environment for open discussions\, questions
 \, and insights. Whether you're new to studying the Bible or have years of
  experience\, this is an opportunity to deepen your understanding and conn
 ect with others on the same spiritual journey.\n\nCome and join us as we s
 eek wisdom\, find inspiration\, and foster meaningful connections. Our Wee
 kly Bible Study takes place every Wednesday night\, providing a regular sp
 ace for spiritual growth and community. We can't wait to explore the Scrip
 tures with you!
LOCATION:Calvary Chapel Elizabeth\, 4031 Park Lane\, Elizabeth\, CO\, 80107
 \, United States
X-APPLE-STRUCTURED-LOCATION;VALUE=URI;X-ADDRESS=4031 Park Lane\, Elizabeth\
 , CO\, 80107\, United States;X-APPLE-RADIUS=100;X-TITLE=Calvary Chapel Eli
 zabeth:geo:0,0
END:VEVENT
END:VCALENDAR